BEGIN:VCALENDAR
VERSION:2.0
PRODID:-//ConVerve GmbH//B2BMatch//EN
METHOD:PUBLISH
BEGIN:VEVENT
DTSTART:20260205T060000Z
DTEND:20260205T220000Z
SUMMARY:5 Countries Workshop 2026
LOCATION:Pullman London St Pancras
DESCRIPTION:
UID:0000001
DTSTAMP:20180215T145139Z
END:VEVENT
END:VCALENDAR
